BEGIN:VCALENDAR
VERSION:2.0
PRODID:-//ChamberMaster//Event Calendar 2.0//EN
METHOD:PUBLISH
X-PUBLISHED-TTL:P3D
REFRESH-INTERVAL:P3D
CALSCALE:GREGORIAN
BEGIN:VEVENT
DTSTART;VALUE=DATE:20220326
DTEND;VALUE=DATE:20220403
TRANSP:TRANSPARENT
X-MICROSOFT-CDO-ALLDAYEVENT:TRUE
SUMMARY:ABC Rodeo
DESCRIPTION:
X-ALT-DESC;FMTTYPE=text/html:
LOCATION:Mallet Event Center and Arena
UID:e.2262.2023
SEQUENCE:3
DTSTAMP:20260424T005124Z
URL:http://levellandtexas.chambermaster.com/events/details/abc-rodeo-2023
END:VEVENT

END:VCALENDAR
